BEGIN:VCALENDAR
VERSION:2.0
PRODID:-// - ECPv6.2.2//NONSGML v1.0//EN
CALSCALE:GREGORIAN
METHOD:PUBLISH
X-ORIGINAL-URL:https://test.bellyrules.com
X-WR-CALDESC:Events for 
REFRESH-INTERVAL;VALUE=DURATION:PT1H
X-Robots-Tag:noindex
X-PUBLISHED-TTL:PT1H
BEGIN:VTIMEZONE
TZID:UTC
BEGIN:STANDARD
TZOFFSETFROM:+0000
TZOFFSETTO:+0000
TZNAME:UTC
DTSTART:20230101T000000
END:STANDARD
END:VTIMEZONE
BEGIN:VEVENT
DTSTART;TZID=UTC:20230929T150000
DTEND;TZID=UTC:20230929T163000
DTSTAMP:20260419T142905
CREATED:20230924T120716Z
LAST-MODIFIED:20230924T120716Z
UID:10000062-1695999600-1696005000@test.bellyrules.com
SUMMARY:Raheenbar Pumpkin Patch
DESCRIPTION:Pick Your Perfect Pumpkin: Roam through our enchanting pumpkin patch and find the pumpkin of your dreams. With a wide variety of shapes and sizes\, you’re sure to discover the one that captures your heart. \nPlenty of Fun and Games: Enjoy a day filled with laughter and excitement with our assortment of games for all ages. There’s never a dull moment at The Raheenbar Pumpkin Patch. \nFace Painting: Transform into your favourite fall character with our fabulous face painting station. Let your imagination run wild as our talented artists create whimsical designs that will leave you grinning from ear to ear. \nCaptivating Storytelling: Gather ’round for captivating storytelling sessions that will transport you to a world of enchantment. Listen to tales of pumpkins\, witches\, and autumn magic that will capture the hearts of both young and old.
URL:https://test.bellyrules.com/event/raheenbar-pumpkin-patch/
LOCATION:Raheen Barr\, Raheen Barr 53.889320926415-9.340578368680701 11\, Castlebar\, Co.Mayo\, Ireland
CATEGORIES:Family Event
ATTACH;FMTTYPE=image/jpeg:https://test.bellyrules.com/wp-content/uploads/2023/09/pumpkin.jpg
ORGANIZER;CN="Meara Glas":MAILTO:contact@gmail.com
END:VEVENT
END:VCALENDAR