BEGIN:VCALENDAR
VERSION:2.0
PRODID:-// - ECPv6.2.2//NONSGML v1.0//EN
CALSCALE:GREGORIAN
METHOD:PUBLISH
X-ORIGINAL-URL:https://test.bellyrules.com
X-WR-CALDESC:Events for 
REFRESH-INTERVAL;VALUE=DURATION:PT1H
X-Robots-Tag:noindex
X-PUBLISHED-TTL:PT1H
BEGIN:VTIMEZONE
TZID:UTC
BEGIN:STANDARD
TZOFFSETFROM:+0000
TZOFFSETTO:+0000
TZNAME:UTC
DTSTART:20230101T000000
END:STANDARD
END:VTIMEZONE
BEGIN:VEVENT
DTSTART;TZID=UTC:20230924T130000
DTEND;TZID=UTC:20230924T143000
DTSTAMP:20260419T153427
CREATED:20230924T105028Z
LAST-MODIFIED:20230924T105507Z
UID:10000003-1695560400-1695565800@test.bellyrules.com
SUMMARY:Courtney's Daredevil Circus - BALLINA
DESCRIPTION:Join us under the big top for an amazing show of Circus Acts and plenty of surprises. Make plenty of memories and enjoy the perfect family fun day out with us . \nWe would like to invite you to come along to our production of what we believe is the greatest live show on earth\, THE CIRCUS. So tell your neighbours\, family & friends \nTHE DAREDEVILS ARE COMING ARE YOU READY \nTickets purchased can not be changed / exchanged or refunded once purchased. Please make sure you have selected the correct time /date you wish to attend. \nYou can show your tickets purchased from online either on your mobile or printed up \nPlease make sure to select the correct number and ticket option attending. As we have limited space available per showtime. \nEARLY BIRD OFFERS ARE ONLY VALID ON FIRST DAYS AND CAN ONLY BE PURCHASED ONLINE NOT AT THE TICKET OFFICE. \nDOORS OPEN 30 MINS BEFORE EACH SHOWTIME TICKET OFFICE OPEN ONSITE DAILY
URL:https://test.bellyrules.com/event/courtneys-daredevil-circus-ballina/
LOCATION:Ballina\, Foxford Road Ballina\, Co.Mayo\, Mayo\, Ireland
CATEGORIES:Family Event
ATTACH;FMTTYPE=image/jpeg:https://test.bellyrules.com/wp-content/uploads/2023/09/circus1.jpg
ORGANIZER;CN="Daredevil Entertainment":MAILTO:daredevil@gmail.com
END:VEVENT
END:VCALENDAR