BEGIN:VCALENDAR
VERSION:2.0
PRODID:-// - ECPv6.2.2//NONSGML v1.0//EN
CALSCALE:GREGORIAN
METHOD:PUBLISH
X-ORIGINAL-URL:https://test.bellyrules.com
X-WR-CALDESC:Events for 
REFRESH-INTERVAL;VALUE=DURATION:PT1H
X-Robots-Tag:noindex
X-PUBLISHED-TTL:PT1H
BEGIN:VTIMEZONE
TZID:UTC
BEGIN:STANDARD
TZOFFSETFROM:+0000
TZOFFSETTO:+0000
TZNAME:UTC
DTSTART:20230101T000000
END:STANDARD
END:VTIMEZONE
BEGIN:VEVENT
DTSTART;TZID=UTC:20230928T200000
DTEND;TZID=UTC:20230928T223000
DTSTAMP:20260419T143808
CREATED:20230924T113740Z
LAST-MODIFIED:20230924T120915Z
UID:10000006-1695931200-1695940200@test.bellyrules.com
SUMMARY:Finbar Hoban Presents…Lisa Hannigan “Solo Acoustic” Live at The Ruby Room
DESCRIPTION:We here at Finbar Hoban Presents are delighted to announce that Lisa Hannigan will be performing a very intimate solo acoustic show at The Ruby Room of The Royal Theatre in Castlebar Co Mayo on September 27th 2023. \nIn 2015\, Lisa Hannigan made her film debut\, providing the voice for a Selkie – that is to say\, a mermaid – in the Oscar-nominated Irish animation Song of the Sea. Anyone who knows her music will recognize this as an inspired bit of casting. The sea recurs constantly as an image in her work\, a great unknowable that can drown us or can bring us together\, as a songwriter\, she has the mermaid-like ability to go to places where\, strictly speaking\, we shouldn’t be able to go. \nHannigan first came to light as an angel-voiced\, somewhat mysterious figure singing harmonies alongside Damien Rice. They played together for seven years\, but it wasn’t until the release of her solo debut Sea Sew in 2008 that the full spectrum of her abilities became apparent. A joyous kaleidoscope of love songs\, laments\, sea shanties and glockenspiels\, with a cover hand-stitched by Lisa herself\, the self-released album was a runaway success\, nominated for a Choice award in Ireland and a Mercury Music Prize in the UK. The ecstatic reception gave her the confidence to explore deeper\, darker emotions. Passenger\, which came out in 2011\, centred around the pain of leaving and the sense of apartness consequent to a life spent in constant motion. If Sea Sew bobs beautifully on the surface\, you could say that Passenger explores the undercurrents of passion and heartache beneath the waves.
URL:https://test.bellyrules.com/event/finbar-hoban-presentslisa-hannigan-solo-acoustic-live-at-the-ruby-room/
LOCATION:Royal Theatre Castlebar\, The Ruby Room of The Royal Theatre Castlebar Westport Road\, Castlebar\, Co.Mayo\, Ireland
CATEGORIES:Music concert
ATTACH;FMTTYPE=image/jpeg:https://test.bellyrules.com/wp-content/uploads/2023/09/lisa.jpg
ORGANIZER;CN="Finbar Hoban Presents":MAILTO:support@finbar.com
END:VEVENT
BEGIN:VEVENT
DTSTART;TZID=UTC:20230826T200000
DTEND;TZID=UTC:20230826T220000
DTSTAMP:20260419T143808
CREATED:20230924T100958Z
LAST-MODIFIED:20230924T102701Z
UID:10000002-1693080000-1693087200@test.bellyrules.com
SUMMARY:ANDY IRVINE & GUEST IN CONCERT
DESCRIPTION:Concert in Aid of Friary Preservation Fund\, tickets available on Eventbrite.ie & Gem Costcutters Ballyhaunis\, tickets 20Euros \nA legend of the Irish music scene\, veteran of Planxty and Sweeney’s Men and renowned on international folk circuits…is coming to the Friary in Ballyhaunis in a couple of weeks. Tickets are selling fast\, get your’s now! This is a fundraising event for the Friary Preservation Fund to cover essential upkeep of the building.
URL:https://test.bellyrules.com/event/andy-irvine-guest-in-concert/
LOCATION:The Friary Church\, Abbey Street\, Ballyhaunis\, Mayo\, Ireland
CATEGORIES:Music concert
ATTACH;FMTTYPE=image/jpeg:https://test.bellyrules.com/wp-content/uploads/2023/09/andy-music.jpg
ORGANIZER;CN="Ballyhaunis Abbey":MAILTO:ballyhaunischamber@gmail.com
END:VEVENT
END:VCALENDAR